BEGIN:VCALENDAR
VERSION:2.0
PRODID:-//Elmsleigh Infant &amp; Nursery - ECPv6.15.17//NONSGML v1.0//EN
CALSCALE:GREGORIAN
METHOD:PUBLISH
X-ORIGINAL-URL:https://www.elmsleighinfantschool.co.uk
X-WR-CALDESC:Events for Elmsleigh Infant &amp; Nursery
REFRESH-INTERVAL;VALUE=DURATION:PT1H
X-Robots-Tag:noindex
X-PUBLISHED-TTL:PT1H
BEGIN:VTIMEZONE
TZID:Europe/London
BEGIN:DAYLIGHT
TZOFFSETFROM:+0000
TZOFFSETTO:+0100
TZNAME:BST
DTSTART:20240331T010000
END:DAYLIGHT
BEGIN:STANDARD
TZOFFSETFROM:+0100
TZOFFSETTO:+0000
TZNAME:GMT
DTSTART:20241027T010000
END:STANDARD
BEGIN:DAYLIGHT
TZOFFSETFROM:+0000
TZOFFSETTO:+0100
TZNAME:BST
DTSTART:20250330T010000
END:DAYLIGHT
BEGIN:STANDARD
TZOFFSETFROM:+0100
TZOFFSETTO:+0000
TZNAME:GMT
DTSTART:20251026T010000
END:STANDARD
BEGIN:DAYLIGHT
TZOFFSETFROM:+0000
TZOFFSETTO:+0100
TZNAME:BST
DTSTART:20260329T010000
END:DAYLIGHT
BEGIN:STANDARD
TZOFFSETFROM:+0100
TZOFFSETTO:+0000
TZNAME:GMT
DTSTART:20261025T010000
END:STANDARD
END:VTIMEZONE
BEGIN:VEVENT
DTSTART;VALUE=DATE:20250602
DTEND;VALUE=DATE:20250603
DTSTAMP:20260422T093226
CREATED:20241115T150844Z
LAST-MODIFIED:20241115T150844Z
UID:10271-1748822400-1748908799@www.elmsleighinfantschool.co.uk
SUMMARY:INSET DAY
DESCRIPTION:
URL:https://www.elmsleighinfantschool.co.uk/diary/inset-day-11/
END:VEVENT
BEGIN:VEVENT
DTSTART;VALUE=DATE:20250604
DTEND;VALUE=DATE:20250605
DTSTAMP:20260422T093226
CREATED:20241115T150937Z
LAST-MODIFIED:20241115T150937Z
UID:10273-1748995200-1749081599@www.elmsleighinfantschool.co.uk
SUMMARY:World Culture Day
DESCRIPTION:
URL:https://www.elmsleighinfantschool.co.uk/diary/world-culture-day/
END:VEVENT
BEGIN:VEVENT
DTSTART;TZID=Europe/London:20250610T120000
DTEND;TZID=Europe/London:20250610T130000
DTSTAMP:20260422T093226
CREATED:20241115T151050Z
LAST-MODIFIED:20241115T151050Z
UID:10275-1749556800-1749560400@www.elmsleighinfantschool.co.uk
SUMMARY:Fathers Day Parent Lunch Y2 & Rainbows
DESCRIPTION:
URL:https://www.elmsleighinfantschool.co.uk/diary/fathers-day-parent-lunch-y2-rainbows/
END:VEVENT
BEGIN:VEVENT
DTSTART;TZID=Europe/London:20250611T120000
DTEND;TZID=Europe/London:20250611T130000
DTSTAMP:20260422T093226
CREATED:20241115T151151Z
LAST-MODIFIED:20241115T151151Z
UID:10277-1749643200-1749646800@www.elmsleighinfantschool.co.uk
SUMMARY:Fathers Day Parent Lunch Y1 & Butterflies
DESCRIPTION:
URL:https://www.elmsleighinfantschool.co.uk/diary/fathers-day-parent-lunch-y1-butterflies/
END:VEVENT
BEGIN:VEVENT
DTSTART;TZID=Europe/London:20250612T120000
DTEND;TZID=Europe/London:20250612T130000
DTSTAMP:20260422T093226
CREATED:20241115T151338Z
LAST-MODIFIED:20241115T151338Z
UID:10279-1749729600-1749733200@www.elmsleighinfantschool.co.uk
SUMMARY:Fathers Day Parent Lunch - Reception & Nursery
DESCRIPTION:
URL:https://www.elmsleighinfantschool.co.uk/diary/fathers-day-parent-lunch-reception-nursery/
END:VEVENT
END:VCALENDAR