BEGIN:VCALENDAR
VERSION:2.0
PRODID:-//Elmsleigh Infant &amp; Nursery - ECPv6.15.17//NONSGML v1.0//EN
CALSCALE:GREGORIAN
METHOD:PUBLISH
X-WR-CALNAME:Elmsleigh Infant &amp; Nursery
X-ORIGINAL-URL:https://www.elmsleighinfantschool.co.uk
X-WR-CALDESC:Events for Elmsleigh Infant &amp; Nursery
REFRESH-INTERVAL;VALUE=DURATION:PT1H
X-Robots-Tag:noindex
X-PUBLISHED-TTL:PT1H
BEGIN:VTIMEZONE
TZID:Europe/London
BEGIN:DAYLIGHT
TZOFFSETFROM:+0000
TZOFFSETTO:+0100
TZNAME:BST
DTSTART:20200329T010000
END:DAYLIGHT
BEGIN:STANDARD
TZOFFSETFROM:+0100
TZOFFSETTO:+0000
TZNAME:GMT
DTSTART:20201025T010000
END:STANDARD
BEGIN:DAYLIGHT
TZOFFSETFROM:+0000
TZOFFSETTO:+0100
TZNAME:BST
DTSTART:20210328T010000
END:DAYLIGHT
BEGIN:STANDARD
TZOFFSETFROM:+0100
TZOFFSETTO:+0000
TZNAME:GMT
DTSTART:20211031T010000
END:STANDARD
BEGIN:DAYLIGHT
TZOFFSETFROM:+0000
TZOFFSETTO:+0100
TZNAME:BST
DTSTART:20220327T010000
END:DAYLIGHT
BEGIN:STANDARD
TZOFFSETFROM:+0100
TZOFFSETTO:+0000
TZNAME:GMT
DTSTART:20221030T010000
END:STANDARD
BEGIN:DAYLIGHT
TZOFFSETFROM:+0000
TZOFFSETTO:+0100
TZNAME:BST
DTSTART:20230326T010000
END:DAYLIGHT
BEGIN:STANDARD
TZOFFSETFROM:+0100
TZOFFSETTO:+0000
TZNAME:GMT
DTSTART:20231029T010000
END:STANDARD
END:VTIMEZONE
BEGIN:VEVENT
DTSTART;VALUE=DATE:20220506
DTEND;VALUE=DATE:20220507
DTSTAMP:20260423T091741
CREATED:20220204T111656Z
LAST-MODIFIED:20220204T111656Z
UID:3563-1651795200-1651881599@www.elmsleighinfantschool.co.uk
SUMMARY:Curriculum Newsletters
DESCRIPTION:
URL:https://www.elmsleighinfantschool.co.uk/diary/curriculum-newsletters-2/
END:VEVENT
BEGIN:VEVENT
DTSTART;TZID=Europe/London:20220504T143000
DTEND;TZID=Europe/London:20220504T170000
DTSTAMP:20260423T091741
CREATED:20220204T111915Z
LAST-MODIFIED:20220204T111915Z
UID:3571-1651674600-1651683600@www.elmsleighinfantschool.co.uk
SUMMARY:Penguins Class Assembly
DESCRIPTION:
URL:https://www.elmsleighinfantschool.co.uk/diary/penguins-class-assembly-2/
END:VEVENT
BEGIN:VEVENT
DTSTART;VALUE=DATE:20220503
DTEND;VALUE=DATE:20220504
DTSTAMP:20260423T091741
CREATED:20220204T111800Z
LAST-MODIFIED:20220204T111800Z
UID:3567-1651536000-1651622399@www.elmsleighinfantschool.co.uk
SUMMARY:EID Day
DESCRIPTION:
URL:https://www.elmsleighinfantschool.co.uk/diary/eid-day/
END:VEVENT
BEGIN:VEVENT
DTSTART;TZID=Europe/London:20220502T080000
DTEND;TZID=Europe/London:20220502T170000
DTSTAMP:20260423T091741
CREATED:20220204T111729Z
LAST-MODIFIED:20220204T111729Z
UID:3565-1651478400-1651510800@www.elmsleighinfantschool.co.uk
SUMMARY:BANK HOLIDAY - SCHOOL CLOSED
DESCRIPTION:
URL:https://www.elmsleighinfantschool.co.uk/diary/bank-holiday-school-closed/
END:VEVENT
BEGIN:VEVENT
DTSTART;VALUE=DATE:20220502
DTEND;VALUE=DATE:20220503
DTSTAMP:20260423T091741
CREATED:20220125T142125Z
LAST-MODIFIED:20220125T142125Z
UID:3514-1651449600-1651535999@www.elmsleighinfantschool.co.uk
SUMMARY:Bank Holiday
DESCRIPTION:
URL:https://www.elmsleighinfantschool.co.uk/diary/bank-holiday-6/
END:VEVENT
BEGIN:VEVENT
DTSTART;VALUE=DATE:20220425
DTEND;VALUE=DATE:20220426
DTSTAMP:20260423T091741
CREATED:20220204T111542Z
LAST-MODIFIED:20220204T111542Z
UID:3559-1650844800-1650931199@www.elmsleighinfantschool.co.uk
SUMMARY:Earth Day - Eco Assembly
DESCRIPTION:
URL:https://www.elmsleighinfantschool.co.uk/diary/earth-day-eco-assembly/
END:VEVENT
BEGIN:VEVENT
DTSTART;VALUE=DATE:20220423
DTEND;VALUE=DATE:20220424
DTSTAMP:20260423T091741
CREATED:20220204T111627Z
LAST-MODIFIED:20220204T111627Z
UID:3561-1650672000-1650758399@www.elmsleighinfantschool.co.uk
SUMMARY:St George's Day
DESCRIPTION:
URL:https://www.elmsleighinfantschool.co.uk/diary/st-georges-day/
END:VEVENT
BEGIN:VEVENT
DTSTART;VALUE=DATE:20220411
DTEND;VALUE=DATE:20220425
DTSTAMP:20260423T091741
CREATED:20220204T111520Z
LAST-MODIFIED:20220204T111520Z
UID:3557-1649635200-1650844799@www.elmsleighinfantschool.co.uk
SUMMARY:Half Term
DESCRIPTION:
URL:https://www.elmsleighinfantschool.co.uk/diary/half-term-16/
END:VEVENT
BEGIN:VEVENT
DTSTART;VALUE=DATE:20220408
DTEND;VALUE=DATE:20220409
DTSTAMP:20260423T091741
CREATED:20220204T111448Z
LAST-MODIFIED:20220204T111448Z
UID:3555-1649376000-1649462399@www.elmsleighinfantschool.co.uk
SUMMARY:Easter Egg Competition
DESCRIPTION:
URL:https://www.elmsleighinfantschool.co.uk/diary/easter-egg-competition-2/
END:VEVENT
BEGIN:VEVENT
DTSTART;VALUE=DATE:20220408
DTEND;VALUE=DATE:20220409
DTSTAMP:20260423T091741
CREATED:20220204T111418Z
LAST-MODIFIED:20220204T111418Z
UID:3553-1649376000-1649462399@www.elmsleighinfantschool.co.uk
SUMMARY:Celebration for Easter & Easter Story Part 3 - Easter Sunday
DESCRIPTION:
URL:https://www.elmsleighinfantschool.co.uk/diary/celebration-for-easter-easter-story-part-3-easter-sunday/
END:VEVENT
BEGIN:VEVENT
DTSTART;VALUE=DATE:20220407
DTEND;VALUE=DATE:20220408
DTSTAMP:20260423T091741
CREATED:20220204T111302Z
LAST-MODIFIED:20220204T111302Z
UID:3551-1649289600-1649375999@www.elmsleighinfantschool.co.uk
SUMMARY:Easter Story Part 2 - Good Friday
DESCRIPTION:
URL:https://www.elmsleighinfantschool.co.uk/diary/easter-story-part-2-good-friday/
END:VEVENT
BEGIN:VEVENT
DTSTART;VALUE=DATE:20220405
DTEND;VALUE=DATE:20220406
DTSTAMP:20260423T091741
CREATED:20220204T111217Z
LAST-MODIFIED:20220204T111217Z
UID:3549-1649116800-1649203199@www.elmsleighinfantschool.co.uk
SUMMARY:Easter Story Part 1 - Palm Sunday Assembly
DESCRIPTION:
URL:https://www.elmsleighinfantschool.co.uk/diary/easter-story-part-1-palm-sunday-assembly/
END:VEVENT
BEGIN:VEVENT
DTSTART;VALUE=DATE:20220404
DTEND;VALUE=DATE:20220405
DTSTAMP:20260423T091741
CREATED:20220204T111143Z
LAST-MODIFIED:20220204T111143Z
UID:3547-1649030400-1649116799@www.elmsleighinfantschool.co.uk
SUMMARY:Ramadan Assembly
DESCRIPTION:
URL:https://www.elmsleighinfantschool.co.uk/diary/ramadan-assembly-2/
END:VEVENT
BEGIN:VEVENT
DTSTART;VALUE=DATE:20220401
DTEND;VALUE=DATE:20220402
DTSTAMP:20260423T091741
CREATED:20220204T111118Z
LAST-MODIFIED:20220204T111118Z
UID:3545-1648771200-1648857599@www.elmsleighinfantschool.co.uk
SUMMARY:World Autism Awareness Day
DESCRIPTION:
URL:https://www.elmsleighinfantschool.co.uk/diary/world-autism-awareness-day-2/
END:VEVENT
BEGIN:VEVENT
DTSTART;VALUE=DATE:20220330
DTEND;VALUE=DATE:20220401
DTSTAMP:20260423T091741
CREATED:20220204T111053Z
LAST-MODIFIED:20220204T111053Z
UID:3543-1648598400-1648771199@www.elmsleighinfantschool.co.uk
SUMMARY:Beaumanor Residential - Year 2
DESCRIPTION:
URL:https://www.elmsleighinfantschool.co.uk/diary/beaumanor-residential-year-2/
END:VEVENT
BEGIN:VEVENT
DTSTART;VALUE=DATE:20220328
DTEND;VALUE=DATE:20220329
DTSTAMP:20260423T091741
CREATED:20220204T111014Z
LAST-MODIFIED:20220204T111014Z
UID:3541-1648425600-1648511999@www.elmsleighinfantschool.co.uk
SUMMARY:Holi Assembly
DESCRIPTION:
URL:https://www.elmsleighinfantschool.co.uk/diary/holi-assembly/
END:VEVENT
BEGIN:VEVENT
DTSTART;VALUE=DATE:20220325
DTEND;VALUE=DATE:20220326
DTSTAMP:20260423T091741
CREATED:20220204T110927Z
LAST-MODIFIED:20220204T110927Z
UID:3539-1648166400-1648252799@www.elmsleighinfantschool.co.uk
SUMMARY:Mothers Day Celebrations
DESCRIPTION:
URL:https://www.elmsleighinfantschool.co.uk/diary/mothers-day-celebrations-2/
END:VEVENT
BEGIN:VEVENT
DTSTART;VALUE=DATE:20220322
DTEND;VALUE=DATE:20220324
DTSTAMP:20260423T091741
CREATED:20220204T110857Z
LAST-MODIFIED:20220204T110857Z
UID:3537-1647907200-1648079999@www.elmsleighinfantschool.co.uk
SUMMARY:Parent Consultations
DESCRIPTION:
URL:https://www.elmsleighinfantschool.co.uk/diary/parent-consultations-5/
END:VEVENT
BEGIN:VEVENT
DTSTART;VALUE=DATE:20220317
DTEND;VALUE=DATE:20220318
DTSTAMP:20260423T091741
CREATED:20220204T110829Z
LAST-MODIFIED:20220204T110829Z
UID:3535-1647475200-1647561599@www.elmsleighinfantschool.co.uk
SUMMARY:St Patrick Day Assembly
DESCRIPTION:
URL:https://www.elmsleighinfantschool.co.uk/diary/st-patrick-day-assembly/
END:VEVENT
BEGIN:VEVENT
DTSTART;TZID=Europe/London:20220316T143000
DTEND;TZID=Europe/London:20220316T170000
DTSTAMP:20260423T091741
CREATED:20220204T110753Z
LAST-MODIFIED:20220204T110753Z
UID:3533-1647441000-1647450000@www.elmsleighinfantschool.co.uk
SUMMARY:Year 2 SATS Meeting
DESCRIPTION:
URL:https://www.elmsleighinfantschool.co.uk/diary/year-2-sats-meeting/
END:VEVENT
BEGIN:VEVENT
DTSTART;VALUE=DATE:20220311
DTEND;VALUE=DATE:20220312
DTSTAMP:20260423T091741
CREATED:20220204T110718Z
LAST-MODIFIED:20220204T110718Z
UID:3531-1646956800-1647043199@www.elmsleighinfantschool.co.uk
SUMMARY:Curriculum Newsletters
DESCRIPTION:
URL:https://www.elmsleighinfantschool.co.uk/diary/curriculum-newsletters/
END:VEVENT
BEGIN:VEVENT
DTSTART;VALUE=DATE:20220303
DTEND;VALUE=DATE:20220304
DTSTAMP:20260423T091741
CREATED:20220204T110432Z
LAST-MODIFIED:20220204T110432Z
UID:3529-1646265600-1646351999@www.elmsleighinfantschool.co.uk
SUMMARY:World Book Day
DESCRIPTION:
URL:https://www.elmsleighinfantschool.co.uk/diary/world-book-day-2/
END:VEVENT
BEGIN:VEVENT
DTSTART;VALUE=DATE:20220302
DTEND;VALUE=DATE:20220303
DTSTAMP:20260423T091741
CREATED:20220204T110408Z
LAST-MODIFIED:20220204T110408Z
UID:3527-1646179200-1646265599@www.elmsleighinfantschool.co.uk
SUMMARY:Lent Assembly & St David's Day
DESCRIPTION:
URL:https://www.elmsleighinfantschool.co.uk/diary/lent-assembly-world-book-day/
END:VEVENT
BEGIN:VEVENT
DTSTART;VALUE=DATE:20220301
DTEND;VALUE=DATE:20220302
DTSTAMP:20260423T091741
CREATED:20220204T110340Z
LAST-MODIFIED:20220204T110340Z
UID:3525-1646092800-1646179199@www.elmsleighinfantschool.co.uk
SUMMARY:Shrove Tuesday
DESCRIPTION:
URL:https://www.elmsleighinfantschool.co.uk/diary/shrove-tuesday/
END:VEVENT
BEGIN:VEVENT
DTSTART;VALUE=DATE:20220221
DTEND;VALUE=DATE:20220228
DTSTAMP:20260423T091741
CREATED:20220204T110314Z
LAST-MODIFIED:20220204T110314Z
UID:3523-1645401600-1646006399@www.elmsleighinfantschool.co.uk
SUMMARY:Half Term
DESCRIPTION:
URL:https://www.elmsleighinfantschool.co.uk/diary/half-term-15/
END:VEVENT
BEGIN:VEVENT
DTSTART;TZID=Europe/London:20220204T140000
DTEND;TZID=Europe/London:20220204T151500
DTSTAMP:20260423T091741
CREATED:20220720T103811Z
LAST-MODIFIED:20220720T103811Z
UID:3609-1643983200-1643987700@www.elmsleighinfantschool.co.uk
SUMMARY:Party Afternoon
DESCRIPTION:
URL:https://www.elmsleighinfantschool.co.uk/diary/party-afternoon/
END:VEVENT
BEGIN:VEVENT
DTSTART;TZID=Europe/London:20220120T080000
DTEND;TZID=Europe/London:20220120T170000
DTSTAMP:20260423T091741
CREATED:20210930T130009Z
LAST-MODIFIED:20210930T130009Z
UID:3319-1642665600-1642698000@www.elmsleighinfantschool.co.uk
SUMMARY:Pupil Progress Meeting
DESCRIPTION:
URL:https://www.elmsleighinfantschool.co.uk/diary/pupil-progress-meeting/
END:VEVENT
BEGIN:VEVENT
DTSTART;TZID=Europe/London:20220113T143000
DTEND;TZID=Europe/London:20220113T170000
DTSTAMP:20260423T091741
CREATED:20210930T125710Z
LAST-MODIFIED:20210930T125710Z
UID:3315-1642084200-1642093200@www.elmsleighinfantschool.co.uk
SUMMARY:PANTs Workshop for Parents
DESCRIPTION:
URL:https://www.elmsleighinfantschool.co.uk/diary/pants-workshop-for-parents/
END:VEVENT
BEGIN:VEVENT
DTSTART;TZID=Europe/London:20220110T103000
DTEND;TZID=Europe/London:20220110T110000
DTSTAMP:20260423T091741
CREATED:20210930T125621Z
LAST-MODIFIED:20210930T125621Z
UID:3313-1641810600-1641812400@www.elmsleighinfantschool.co.uk
SUMMARY:Welcome Assembly 2022
DESCRIPTION:
URL:https://www.elmsleighinfantschool.co.uk/diary/welcome-assembly-2022/
END:VEVENT
BEGIN:VEVENT
DTSTART;TZID=Europe/London:20211224T080000
DTEND;TZID=Europe/London:20220109T170000
DTSTAMP:20260423T091741
CREATED:20210930T125532Z
LAST-MODIFIED:20210930T125532Z
UID:3311-1640332800-1641747600@www.elmsleighinfantschool.co.uk
SUMMARY:Half Term
DESCRIPTION:
URL:https://www.elmsleighinfantschool.co.uk/diary/half-term-11/
END:VEVENT
END:VCALENDAR