BEGIN:VCALENDAR
VERSION:2.0
PRODID:-//Elmsleigh Infant &amp; Nursery - ECPv6.15.17//NONSGML v1.0//EN
CALSCALE:GREGORIAN
METHOD:PUBLISH
X-WR-CALNAME:Elmsleigh Infant &amp; Nursery
X-ORIGINAL-URL:https://www.elmsleighinfantschool.co.uk
X-WR-CALDESC:Events for Elmsleigh Infant &amp; Nursery
REFRESH-INTERVAL;VALUE=DURATION:PT1H
X-Robots-Tag:noindex
X-PUBLISHED-TTL:PT1H
BEGIN:VTIMEZONE
TZID:Europe/London
BEGIN:DAYLIGHT
TZOFFSETFROM:+0000
TZOFFSETTO:+0100
TZNAME:BST
DTSTART:20210328T010000
END:DAYLIGHT
BEGIN:STANDARD
TZOFFSETFROM:+0100
TZOFFSETTO:+0000
TZNAME:GMT
DTSTART:20211031T010000
END:STANDARD
BEGIN:DAYLIGHT
TZOFFSETFROM:+0000
TZOFFSETTO:+0100
TZNAME:BST
DTSTART:20220327T010000
END:DAYLIGHT
BEGIN:STANDARD
TZOFFSETFROM:+0100
TZOFFSETTO:+0000
TZNAME:GMT
DTSTART:20221030T010000
END:STANDARD
BEGIN:DAYLIGHT
TZOFFSETFROM:+0000
TZOFFSETTO:+0100
TZNAME:BST
DTSTART:20230326T010000
END:DAYLIGHT
BEGIN:STANDARD
TZOFFSETFROM:+0100
TZOFFSETTO:+0000
TZNAME:GMT
DTSTART:20231029T010000
END:STANDARD
END:VTIMEZONE
BEGIN:VEVENT
DTSTART;VALUE=DATE:20221021
DTEND;VALUE=DATE:20221022
DTSTAMP:20260422T235533
CREATED:20220909T084408Z
LAST-MODIFIED:20220909T084408Z
UID:3995-1666310400-1666396799@www.elmsleighinfantschool.co.uk
SUMMARY:Children's Flu Jabs
DESCRIPTION:
URL:https://www.elmsleighinfantschool.co.uk/diary/childrens-flu-jabs/
END:VEVENT
BEGIN:VEVENT
DTSTART;TZID=Europe/London:20221020T140000
DTEND;TZID=Europe/London:20221020T143000
DTSTAMP:20260422T235533
CREATED:20220909T084341Z
LAST-MODIFIED:20220909T084341Z
UID:3993-1666274400-1666276200@www.elmsleighinfantschool.co.uk
SUMMARY:Maths Afternoon for Parents
DESCRIPTION:
URL:https://www.elmsleighinfantschool.co.uk/diary/maths-afternoon-for-parents/
END:VEVENT
BEGIN:VEVENT
DTSTART;TZID=Europe/London:20221020T090000
DTEND;TZID=Europe/London:20221020T110000
DTSTAMP:20260422T235533
CREATED:20220909T084223Z
LAST-MODIFIED:20220909T084223Z
UID:3991-1666256400-1666263600@www.elmsleighinfantschool.co.uk
SUMMARY:Harvest Assembly - Caterpillars\, Early Years & Rainbows
DESCRIPTION:
URL:https://www.elmsleighinfantschool.co.uk/diary/harvest-assembly-caterpillars-early-years-rainbows/
END:VEVENT
BEGIN:VEVENT
DTSTART;TZID=Europe/London:20221019T141500
DTEND;TZID=Europe/London:20221019T170000
DTSTAMP:20260422T235533
CREATED:20220909T084130Z
LAST-MODIFIED:20220909T084130Z
UID:3989-1666188900-1666198800@www.elmsleighinfantschool.co.uk
SUMMARY:Harvest Assembly - Year 2 & Penguins
DESCRIPTION:
URL:https://www.elmsleighinfantschool.co.uk/diary/harvest-assembly-year-2-penguins/
END:VEVENT
BEGIN:VEVENT
DTSTART;TZID=Europe/London:20221018T100000
DTEND;TZID=Europe/London:20221018T170000
DTSTAMP:20260422T235533
CREATED:20220909T083531Z
LAST-MODIFIED:20220909T083531Z
UID:3987-1666087200-1666112400@www.elmsleighinfantschool.co.uk
SUMMARY:Harvest Rehearsal - Expectations & Singing
DESCRIPTION:
URL:https://www.elmsleighinfantschool.co.uk/diary/harvest-rehearsal-expectations-singing/
END:VEVENT
BEGIN:VEVENT
DTSTART;TZID=Europe/London:20221014T143000
DTEND;TZID=Europe/London:20221014T170000
DTSTAMP:20260422T235533
CREATED:20220909T083431Z
LAST-MODIFIED:20220909T083431Z
UID:3985-1665757800-1665766800@www.elmsleighinfantschool.co.uk
SUMMARY:Book Buddy Across School
DESCRIPTION:
URL:https://www.elmsleighinfantschool.co.uk/diary/book-buddy-across-school/
END:VEVENT
BEGIN:VEVENT
DTSTART;VALUE=DATE:20221010
DTEND;VALUE=DATE:20221011
DTSTAMP:20260422T235533
CREATED:20220909T083302Z
LAST-MODIFIED:20220909T083302Z
UID:3979-1665360000-1665446399@www.elmsleighinfantschool.co.uk
SUMMARY:Read Take 10/ Mental Health Day/ Wear Yellow
DESCRIPTION:
URL:https://www.elmsleighinfantschool.co.uk/diary/read-take-10-mental-health-day-wear-yellow/
END:VEVENT
BEGIN:VEVENT
DTSTART;VALUE=DATE:20221006
DTEND;VALUE=DATE:20221007
DTSTAMP:20260422T235533
CREATED:20220909T083204Z
LAST-MODIFIED:20220909T083204Z
UID:3975-1665014400-1665100799@www.elmsleighinfantschool.co.uk
SUMMARY:National Poetry Day
DESCRIPTION:
URL:https://www.elmsleighinfantschool.co.uk/diary/national-poetry-day/
END:VEVENT
BEGIN:VEVENT
DTSTART;TZID=Europe/London:20220929T160000
DTEND;TZID=Europe/London:20220929T170000
DTSTAMP:20260422T235533
CREATED:20220909T083045Z
LAST-MODIFIED:20220909T083045Z
UID:3969-1664467200-1664470800@www.elmsleighinfantschool.co.uk
SUMMARY:Beaumanor Residential Parents Meeting
DESCRIPTION:
URL:https://www.elmsleighinfantschool.co.uk/diary/beaumanor-residential-parents-meeting/
END:VEVENT
BEGIN:VEVENT
DTSTART;TZID=Europe/London:20220926T130000
DTEND;TZID=Europe/London:20220926T170000
DTSTAMP:20260422T235533
CREATED:20220909T083006Z
LAST-MODIFIED:20220909T083006Z
UID:3967-1664197200-1664211600@www.elmsleighinfantschool.co.uk
SUMMARY:NSPCC Whole School Assembly
DESCRIPTION:
URL:https://www.elmsleighinfantschool.co.uk/diary/nspcc-whole-school-assembly/
END:VEVENT
BEGIN:VEVENT
DTSTART;TZID=Europe/London:20220923T143000
DTEND;TZID=Europe/London:20220923T170000
DTSTAMP:20260422T235533
CREATED:20220909T081106Z
LAST-MODIFIED:20220909T081106Z
UID:3961-1663943400-1663952400@www.elmsleighinfantschool.co.uk
SUMMARY:First Celebration Assembly (Every Friday Thereafter)
DESCRIPTION:
URL:https://www.elmsleighinfantschool.co.uk/diary/first-celebration-assembly-every-friday-thereafter/
END:VEVENT
BEGIN:VEVENT
DTSTART;TZID=Europe/London:20220921T153000
DTEND;TZID=Europe/London:20220921T170000
DTSTAMP:20260422T235533
CREATED:20220909T080914Z
LAST-MODIFIED:20220909T080914Z
UID:3959-1663774200-1663779600@www.elmsleighinfantschool.co.uk
SUMMARY:Twilight for Teaching & Support Staff
DESCRIPTION:
URL:https://www.elmsleighinfantschool.co.uk/diary/twilight-for-teaching-support-staff/
END:VEVENT
BEGIN:VEVENT
DTSTART;TZID=Europe/London:20220921T080000
DTEND;TZID=Europe/London:20220921T170000
DTSTAMP:20260422T235533
CREATED:20220909T080806Z
LAST-MODIFIED:20220909T080806Z
UID:3957-1663747200-1663779600@www.elmsleighinfantschool.co.uk
SUMMARY:International Day of Peace
DESCRIPTION:
URL:https://www.elmsleighinfantschool.co.uk/diary/international-day-of-peace/
END:VEVENT
BEGIN:VEVENT
DTSTART;TZID=Europe/London:20220919T080000
DTEND;TZID=Europe/London:20220919T170000
DTSTAMP:20260422T235533
CREATED:20220909T075813Z
LAST-MODIFIED:20220909T075813Z
UID:3952-1663574400-1663606800@www.elmsleighinfantschool.co.uk
SUMMARY:Assembly Team in School
DESCRIPTION:
URL:https://www.elmsleighinfantschool.co.uk/diary/assembly-team-in-school/
END:VEVENT
BEGIN:VEVENT
DTSTART;TZID=Europe/London:20220919T080000
DTEND;TZID=Europe/London:20220919T170000
DTSTAMP:20260422T235533
CREATED:20220909T075751Z
LAST-MODIFIED:20220909T075751Z
UID:3950-1663574400-1663606800@www.elmsleighinfantschool.co.uk
SUMMARY:Nursery Starts 3 hours per day
DESCRIPTION:
URL:https://www.elmsleighinfantschool.co.uk/diary/nursery-starts-3-hours-per-day/
END:VEVENT
BEGIN:VEVENT
DTSTART;TZID=Europe/London:20220916T080000
DTEND;TZID=Europe/London:20220916T170000
DTSTAMP:20260422T235533
CREATED:20220909T075627Z
LAST-MODIFIED:20220909T075627Z
UID:3947-1663315200-1663347600@www.elmsleighinfantschool.co.uk
SUMMARY:Welcome Letter from Class Teacher & Curriculum Newsletter
DESCRIPTION:
URL:https://www.elmsleighinfantschool.co.uk/diary/class-train-assembly/
END:VEVENT
BEGIN:VEVENT
DTSTART;TZID=Europe/London:20220914T110000
DTEND;TZID=Europe/London:20220914T120000
DTSTAMP:20260422T235533
CREATED:20220909T075556Z
LAST-MODIFIED:20220909T075556Z
UID:3945-1663153200-1663156800@www.elmsleighinfantschool.co.uk
SUMMARY:School Council Meeting
DESCRIPTION:
URL:https://www.elmsleighinfantschool.co.uk/diary/school-council-meeting/
END:VEVENT
BEGIN:VEVENT
DTSTART;TZID=Europe/London:20220913T083000
DTEND;TZID=Europe/London:20220913T103000
DTSTAMP:20260422T235533
CREATED:20220909T075447Z
LAST-MODIFIED:20220909T075447Z
UID:3943-1663057800-1663065000@www.elmsleighinfantschool.co.uk
SUMMARY:Nursery Opens 8.30 - 10.30am
DESCRIPTION:
URL:https://www.elmsleighinfantschool.co.uk/diary/nursery-opens-8-30-10-30am/
END:VEVENT
BEGIN:VEVENT
DTSTART;TZID=Europe/London:20220909T143000
DTEND;TZID=Europe/London:20220909T170000
DTSTAMP:20260422T235533
CREATED:20220909T075335Z
LAST-MODIFIED:20220909T075335Z
UID:3941-1662733800-1662742800@www.elmsleighinfantschool.co.uk
SUMMARY:Introduction to Celebration\, Values and Expectations
DESCRIPTION:
URL:https://www.elmsleighinfantschool.co.uk/diary/introduction-to-celebration-values-and-expectations/
END:VEVENT
BEGIN:VEVENT
DTSTART;VALUE=DATE:20220909
DTEND;VALUE=DATE:20220910
DTSTAMP:20260422T235533
CREATED:20220909T090618Z
LAST-MODIFIED:20220909T090618Z
UID:4045-1662681600-1662767999@www.elmsleighinfantschool.co.uk
SUMMARY:Advent 4 & Christingle Assembly
DESCRIPTION:
URL:https://www.elmsleighinfantschool.co.uk/diary/advent-4-christingle-assembly/
END:VEVENT
BEGIN:VEVENT
DTSTART;VALUE=DATE:20220909
DTEND;VALUE=DATE:20220910
DTSTAMP:20260422T235533
CREATED:20220909T090529Z
LAST-MODIFIED:20220909T090529Z
UID:4041-1662681600-1662767999@www.elmsleighinfantschool.co.uk
SUMMARY:Year 1 & Reception Christmas Production
DESCRIPTION:9.30am or 2.00pm
URL:https://www.elmsleighinfantschool.co.uk/diary/year-1-reception-christmas-production/
END:VEVENT
BEGIN:VEVENT
DTSTART;VALUE=DATE:20220909
DTEND;VALUE=DATE:20220910
DTSTAMP:20260422T235533
CREATED:20220909T090443Z
LAST-MODIFIED:20220909T090443Z
UID:4039-1662681600-1662767999@www.elmsleighinfantschool.co.uk
SUMMARY:Year 2 Christmas Production
DESCRIPTION:9.15am or 2.00pm
URL:https://www.elmsleighinfantschool.co.uk/diary/year-2-christmas-production-4/
END:VEVENT
BEGIN:VEVENT
DTSTART;TZID=Europe/London:20220905T133000
DTEND;TZID=Europe/London:20220905T170000
DTSTAMP:20260422T235533
CREATED:20220909T075246Z
LAST-MODIFIED:20220909T075246Z
UID:3939-1662384600-1662397200@www.elmsleighinfantschool.co.uk
SUMMARY:Welcome Assembly & Meet the Middays
DESCRIPTION:
URL:https://www.elmsleighinfantschool.co.uk/diary/welcome-assembly-meet-the-middays/
END:VEVENT
BEGIN:VEVENT
DTSTART;TZID=Europe/London:20220905T080000
DTEND;TZID=Europe/London:20220905T170000
DTSTAMP:20260422T235533
CREATED:20220909T075202Z
LAST-MODIFIED:20220909T075202Z
UID:3937-1662364800-1662397200@www.elmsleighinfantschool.co.uk
SUMMARY:School Opens to Pupils
DESCRIPTION:
URL:https://www.elmsleighinfantschool.co.uk/diary/school-opens-to-pupils/
END:VEVENT
BEGIN:VEVENT
DTSTART;TZID=Europe/London:20220901T080000
DTEND;TZID=Europe/London:20220902T170000
DTSTAMP:20260422T235533
CREATED:20220909T075041Z
LAST-MODIFIED:20220909T075041Z
UID:3935-1662019200-1662138000@www.elmsleighinfantschool.co.uk
SUMMARY:Inset Day
DESCRIPTION:
URL:https://www.elmsleighinfantschool.co.uk/diary/inset-day-6/
END:VEVENT
BEGIN:VEVENT
DTSTART;TZID=Europe/London:20220721T080000
DTEND;TZID=Europe/London:20220721T170000
DTSTAMP:20260422T235533
CREATED:20220204T113835Z
LAST-MODIFIED:20220204T113835Z
UID:3611-1658390400-1658422800@www.elmsleighinfantschool.co.uk
SUMMARY:Graduation/ School Closes
DESCRIPTION:
URL:https://www.elmsleighinfantschool.co.uk/diary/graduation-school-closes/
END:VEVENT
BEGIN:VEVENT
DTSTART;VALUE=DATE:20220719
DTEND;VALUE=DATE:20220720
DTSTAMP:20260422T235533
CREATED:20220204T113746Z
LAST-MODIFIED:20220204T113746Z
UID:3607-1658188800-1658275199@www.elmsleighinfantschool.co.uk
SUMMARY:Elmsleigh's Got Talent
DESCRIPTION:
URL:https://www.elmsleighinfantschool.co.uk/diary/elmsleighs-got-talent-2/
END:VEVENT
BEGIN:VEVENT
DTSTART;TZID=Europe/London:20220714T143000
DTEND;TZID=Europe/London:20220714T170000
DTSTAMP:20260422T235533
CREATED:20220204T113602Z
LAST-MODIFIED:20220204T113602Z
UID:3605-1657809000-1657818000@www.elmsleighinfantschool.co.uk
SUMMARY:Welcome to Year 1 Meeting
DESCRIPTION:
URL:https://www.elmsleighinfantschool.co.uk/diary/welcome-to-year-1-meeting/
END:VEVENT
BEGIN:VEVENT
DTSTART;TZID=Europe/London:20220713T143000
DTEND;TZID=Europe/London:20220713T170000
DTSTAMP:20260422T235533
CREATED:20220204T113520Z
LAST-MODIFIED:20220204T113520Z
UID:3603-1657722600-1657731600@www.elmsleighinfantschool.co.uk
SUMMARY:Welcome to Year 2 Meeting
DESCRIPTION:
URL:https://www.elmsleighinfantschool.co.uk/diary/welcome-to-year-2-meeting/
END:VEVENT
BEGIN:VEVENT
DTSTART;VALUE=DATE:20220713
DTEND;VALUE=DATE:20220714
DTSTAMP:20260422T235533
CREATED:20220204T113427Z
LAST-MODIFIED:20220204T113427Z
UID:3601-1657670400-1657756799@www.elmsleighinfantschool.co.uk
SUMMARY:Transition Day 1
DESCRIPTION:
URL:https://www.elmsleighinfantschool.co.uk/diary/transition-day-1/
END:VEVENT
END:VCALENDAR