BEGIN:VCALENDAR
VERSION:2.0
PRODID:-//Elmsleigh Infant &amp; Nursery - ECPv6.15.17//NONSGML v1.0//EN
CALSCALE:GREGORIAN
METHOD:PUBLISH
X-WR-CALNAME:Elmsleigh Infant &amp; Nursery
X-ORIGINAL-URL:https://www.elmsleighinfantschool.co.uk
X-WR-CALDESC:Events for Elmsleigh Infant &amp; Nursery
REFRESH-INTERVAL;VALUE=DURATION:PT1H
X-Robots-Tag:noindex
X-PUBLISHED-TTL:PT1H
BEGIN:VTIMEZONE
TZID:Europe/London
BEGIN:DAYLIGHT
TZOFFSETFROM:+0000
TZOFFSETTO:+0100
TZNAME:BST
DTSTART:20210328T010000
END:DAYLIGHT
BEGIN:STANDARD
TZOFFSETFROM:+0100
TZOFFSETTO:+0000
TZNAME:GMT
DTSTART:20211031T010000
END:STANDARD
BEGIN:DAYLIGHT
TZOFFSETFROM:+0000
TZOFFSETTO:+0100
TZNAME:BST
DTSTART:20220327T010000
END:DAYLIGHT
BEGIN:STANDARD
TZOFFSETFROM:+0100
TZOFFSETTO:+0000
TZNAME:GMT
DTSTART:20221030T010000
END:STANDARD
BEGIN:DAYLIGHT
TZOFFSETFROM:+0000
TZOFFSETTO:+0100
TZNAME:BST
DTSTART:20230326T010000
END:DAYLIGHT
BEGIN:STANDARD
TZOFFSETFROM:+0100
TZOFFSETTO:+0000
TZNAME:GMT
DTSTART:20231029T010000
END:STANDARD
BEGIN:DAYLIGHT
TZOFFSETFROM:+0000
TZOFFSETTO:+0100
TZNAME:BST
DTSTART:20240331T010000
END:DAYLIGHT
BEGIN:STANDARD
TZOFFSETFROM:+0100
TZOFFSETTO:+0000
TZNAME:GMT
DTSTART:20241027T010000
END:STANDARD
BEGIN:DAYLIGHT
TZOFFSETFROM:+0000
TZOFFSETTO:+0100
TZNAME:BST
DTSTART:20250330T010000
END:DAYLIGHT
BEGIN:STANDARD
TZOFFSETFROM:+0100
TZOFFSETTO:+0000
TZNAME:GMT
DTSTART:20251026T010000
END:STANDARD
END:VTIMEZONE
BEGIN:VEVENT
DTSTART;TZID=Europe/London:20240917T143000
DTEND;TZID=Europe/London:20240917T151500
DTSTAMP:20260422T235647
CREATED:20240830T124244Z
LAST-MODIFIED:20240830T124244Z
UID:9954-1726583400-1726586100@www.elmsleighinfantschool.co.uk
SUMMARY:Year 2 - Meet the Teacher
DESCRIPTION:
URL:https://www.elmsleighinfantschool.co.uk/diary/year-2-meet-the-teacher/
END:VEVENT
BEGIN:VEVENT
DTSTART;TZID=Europe/London:20240916T143000
DTEND;TZID=Europe/London:20240916T151500
DTSTAMP:20260422T235647
CREATED:20240830T124202Z
LAST-MODIFIED:20240830T124202Z
UID:9952-1726497000-1726499700@www.elmsleighinfantschool.co.uk
SUMMARY:Year 1 - Meet the Teacher
DESCRIPTION:
URL:https://www.elmsleighinfantschool.co.uk/diary/year-1-meet-the-teacher/
END:VEVENT
BEGIN:VEVENT
DTSTART;VALUE=DATE:20240913
DTEND;VALUE=DATE:20240914
DTSTAMP:20260422T235647
CREATED:20240830T124109Z
LAST-MODIFIED:20240830T124109Z
UID:9950-1726185600-1726271999@www.elmsleighinfantschool.co.uk
SUMMARY:Welcome Letter to Parents
DESCRIPTION:
URL:https://www.elmsleighinfantschool.co.uk/diary/welcome-letter-to-parents/
END:VEVENT
BEGIN:VEVENT
DTSTART;TZID=Europe/London:20240911T131000
DTEND;TZID=Europe/London:20240911T133000
DTSTAMP:20260422T235647
CREATED:20240830T123921Z
LAST-MODIFIED:20240830T123921Z
UID:9948-1726060200-1726061400@www.elmsleighinfantschool.co.uk
SUMMARY:Jigsaw Assembly
DESCRIPTION:
URL:https://www.elmsleighinfantschool.co.uk/diary/jigsaw-assembly/
END:VEVENT
BEGIN:VEVENT
DTSTART;VALUE=DATE:20240909
DTEND;VALUE=DATE:20240910
DTSTAMP:20260422T235647
CREATED:20240830T123848Z
LAST-MODIFIED:20240830T123848Z
UID:9946-1725840000-1725926399@www.elmsleighinfantschool.co.uk
SUMMARY:Nursery Stay and Play
DESCRIPTION:
URL:https://www.elmsleighinfantschool.co.uk/diary/nursery-stay-and-play/
END:VEVENT
BEGIN:VEVENT
DTSTART;TZID=Europe/London:20240909T000000
DTEND;TZID=Europe/London:20240909T133000
DTSTAMP:20260422T235647
CREATED:20240830T123758Z
LAST-MODIFIED:20240830T125724Z
UID:9944-1725840000-1725888600@www.elmsleighinfantschool.co.uk
SUMMARY:Values Assembly & Meet the Midday Supervisors
DESCRIPTION:
URL:https://www.elmsleighinfantschool.co.uk/diary/values-assembly-meet-the-midday-supervisors/
END:VEVENT
BEGIN:VEVENT
DTSTART;VALUE=DATE:20240906
DTEND;VALUE=DATE:20240907
DTSTAMP:20260422T235647
CREATED:20240830T123711Z
LAST-MODIFIED:20240830T123711Z
UID:9942-1725580800-1725667199@www.elmsleighinfantschool.co.uk
SUMMARY:Curriculum Newsletters
DESCRIPTION:
URL:https://www.elmsleighinfantschool.co.uk/diary/curriculum-newsletters-4/
END:VEVENT
BEGIN:VEVENT
DTSTART;TZID=Europe/London:20240905T131000
DTEND;TZID=Europe/London:20240905T133000
DTSTAMP:20260422T235647
CREATED:20240830T123625Z
LAST-MODIFIED:20240830T123625Z
UID:9940-1725541800-1725543000@www.elmsleighinfantschool.co.uk
SUMMARY:Welcome Assembly - Mrs Collins
DESCRIPTION:
URL:https://www.elmsleighinfantschool.co.uk/diary/welcome-assembly-mrs-collins/
END:VEVENT
BEGIN:VEVENT
DTSTART;VALUE=DATE:20240904
DTEND;VALUE=DATE:20240905
DTSTAMP:20260422T235647
CREATED:20240703T071320Z
LAST-MODIFIED:20240703T071320Z
UID:9870-1725408000-1725494399@www.elmsleighinfantschool.co.uk
SUMMARY:Inset Day
DESCRIPTION:
URL:https://www.elmsleighinfantschool.co.uk/diary/inset-day-9/
END:VEVENT
BEGIN:VEVENT
DTSTART;VALUE=DATE:20240724
DTEND;VALUE=DATE:20240904
DTSTAMP:20260422T235647
CREATED:20240703T071203Z
LAST-MODIFIED:20240703T071203Z
UID:9868-1721779200-1725407999@www.elmsleighinfantschool.co.uk
SUMMARY:Summer Holidays
DESCRIPTION:
URL:https://www.elmsleighinfantschool.co.uk/diary/summer-holidays-2/
END:VEVENT
BEGIN:VEVENT
DTSTART;VALUE=DATE:20230918
DTEND;VALUE=DATE:20230923
DTSTAMP:20260422T235647
CREATED:20230918T071958Z
LAST-MODIFIED:20230918T071958Z
UID:9235-1694995200-1695427199@www.elmsleighinfantschool.co.uk
SUMMARY:Online Safety Week
DESCRIPTION:
URL:https://www.elmsleighinfantschool.co.uk/diary/online-safety-week/
END:VEVENT
BEGIN:VEVENT
DTSTART;VALUE=DATE:20230616
DTEND;VALUE=DATE:20230617
DTSTAMP:20260422T235647
CREATED:20230421T135349Z
LAST-MODIFIED:20230421T135349Z
UID:8739-1686873600-1686959999@www.elmsleighinfantschool.co.uk
SUMMARY:Curriculum newsletter
DESCRIPTION:
URL:https://www.elmsleighinfantschool.co.uk/diary/curriculum-newsletter-3/
END:VEVENT
BEGIN:VEVENT
DTSTART;VALUE=DATE:20230614
DTEND;VALUE=DATE:20230615
DTSTAMP:20260422T235647
CREATED:20230421T135420Z
LAST-MODIFIED:20230421T135420Z
UID:8741-1686700800-1686787199@www.elmsleighinfantschool.co.uk
SUMMARY:Foundation Stage Induction Day
DESCRIPTION:
URL:https://www.elmsleighinfantschool.co.uk/diary/foundation-stage-induction-day/
END:VEVENT
BEGIN:VEVENT
DTSTART;VALUE=DATE:20230529
DTEND;VALUE=DATE:20230603
DTSTAMP:20260422T235647
CREATED:20230421T134849Z
LAST-MODIFIED:20230421T134849Z
UID:8737-1685318400-1685750399@www.elmsleighinfantschool.co.uk
SUMMARY:Half term
DESCRIPTION:
URL:https://www.elmsleighinfantschool.co.uk/diary/half-term-14/
END:VEVENT
BEGIN:VEVENT
DTSTART;VALUE=DATE:20230508
DTEND;VALUE=DATE:20230509
DTSTAMP:20260422T235647
CREATED:20230421T134809Z
LAST-MODIFIED:20230421T134809Z
UID:8735-1683504000-1683590399@www.elmsleighinfantschool.co.uk
SUMMARY:Bank Holiday
DESCRIPTION:
URL:https://www.elmsleighinfantschool.co.uk/diary/bank-holiday-8/
END:VEVENT
BEGIN:VEVENT
DTSTART;VALUE=DATE:20230503
DTEND;VALUE=DATE:20230504
DTSTAMP:20260422T235648
CREATED:20230414T133718Z
LAST-MODIFIED:20230414T133718Z
UID:8647-1683072000-1683158399@www.elmsleighinfantschool.co.uk
SUMMARY:Provisional Whole School Sports Day
DESCRIPTION:
URL:https://www.elmsleighinfantschool.co.uk/diary/provisional-whole-school-sports-day/
END:VEVENT
BEGIN:VEVENT
DTSTART;VALUE=DATE:20230502
DTEND;VALUE=DATE:20230503
DTSTAMP:20260422T235648
CREATED:20230414T133432Z
LAST-MODIFIED:20230414T133432Z
UID:8645-1682985600-1683071999@www.elmsleighinfantschool.co.uk
SUMMARY:Inset Day
DESCRIPTION:
URL:https://www.elmsleighinfantschool.co.uk/diary/inset-day-8/
END:VEVENT
BEGIN:VEVENT
DTSTART;VALUE=DATE:20230501
DTEND;VALUE=DATE:20230502
DTSTAMP:20260422T235648
CREATED:20230414T133403Z
LAST-MODIFIED:20230414T133403Z
UID:8643-1682899200-1682985599@www.elmsleighinfantschool.co.uk
SUMMARY:Bank Holiday
DESCRIPTION:
URL:https://www.elmsleighinfantschool.co.uk/diary/bank-holiday-7/
END:VEVENT
BEGIN:VEVENT
DTSTART;VALUE=DATE:20230428
DTEND;VALUE=DATE:20230429
DTSTAMP:20260422T235648
CREATED:20230414T133311Z
LAST-MODIFIED:20230414T133311Z
UID:8641-1682640000-1682726399@www.elmsleighinfantschool.co.uk
SUMMARY:School Curriculum Newsletters Go Home
DESCRIPTION:
URL:https://www.elmsleighinfantschool.co.uk/diary/school-curriculum-newsletters-go-home/
END:VEVENT
BEGIN:VEVENT
DTSTART;VALUE=DATE:20230424
DTEND;VALUE=DATE:20230425
DTSTAMP:20260422T235648
CREATED:20230414T133031Z
LAST-MODIFIED:20230414T133031Z
UID:8637-1682294400-1682380799@www.elmsleighinfantschool.co.uk
SUMMARY:Earth Day\, Eco Assembly & St George's Day
DESCRIPTION:
URL:https://www.elmsleighinfantschool.co.uk/diary/earth-day-eco-assembly-st-georges-day/
END:VEVENT
BEGIN:VEVENT
DTSTART;VALUE=DATE:20230421
DTEND;VALUE=DATE:20230422
DTSTAMP:20260422T235648
CREATED:20230414T133144Z
LAST-MODIFIED:20230414T133144Z
UID:8639-1682035200-1682121599@www.elmsleighinfantschool.co.uk
SUMMARY:Eid al-fitr
DESCRIPTION:
URL:https://www.elmsleighinfantschool.co.uk/diary/eid-al-fitr/
END:VEVENT
BEGIN:VEVENT
DTSTART;TZID=Europe/London:20230118T143000
DTEND;TZID=Europe/London:20230118T170000
DTSTAMP:20260422T235648
CREATED:20221128T105810Z
LAST-MODIFIED:20221128T105810Z
UID:4262-1674052200-1674061200@www.elmsleighinfantschool.co.uk
SUMMARY:Tigers Class Assembly
DESCRIPTION:
URL:https://www.elmsleighinfantschool.co.uk/diary/tigers-class-assembly-2/
END:VEVENT
BEGIN:VEVENT
DTSTART;TZID=Europe/London:20230110T143000
DTEND;TZID=Europe/London:20230110T170000
DTSTAMP:20260422T235648
CREATED:20220912T091830Z
LAST-MODIFIED:20220912T091830Z
UID:4056-1673361000-1673370000@www.elmsleighinfantschool.co.uk
SUMMARY:PANTs Workshop for Parents
DESCRIPTION:
URL:https://www.elmsleighinfantschool.co.uk/diary/pants-workshop-for-parents-2/
END:VEVENT
BEGIN:VEVENT
DTSTART;TZID=Europe/London:20230109T093000
DTEND;TZID=Europe/London:20230109T103000
DTSTAMP:20260422T235648
CREATED:20220912T091634Z
LAST-MODIFIED:20220912T091634Z
UID:4052-1673256600-1673260200@www.elmsleighinfantschool.co.uk
SUMMARY:Welcome Assembly 2023 - New year
DESCRIPTION:
URL:https://www.elmsleighinfantschool.co.uk/diary/welcome-assembly-2023-new-year/
END:VEVENT
BEGIN:VEVENT
DTSTART;VALUE=DATE:20230109
DTEND;VALUE=DATE:20230110
DTSTAMP:20260422T235648
CREATED:20220912T091731Z
LAST-MODIFIED:20220912T091731Z
UID:4054-1673222400-1673308799@www.elmsleighinfantschool.co.uk
SUMMARY:Zebras/ Tigers Swimming Commences
DESCRIPTION:
URL:https://www.elmsleighinfantschool.co.uk/diary/zebras-tigers-swimming-commences/
END:VEVENT
BEGIN:VEVENT
DTSTART;VALUE=DATE:20221223
DTEND;VALUE=DATE:20230109
DTSTAMP:20260422T235648
CREATED:20220909T090706Z
LAST-MODIFIED:20220909T090706Z
UID:4049-1671753600-1673222399@www.elmsleighinfantschool.co.uk
SUMMARY:Half Term
DESCRIPTION:
URL:https://www.elmsleighinfantschool.co.uk/diary/half-term-13/
END:VEVENT
BEGIN:VEVENT
DTSTART;VALUE=DATE:20221222
DTEND;VALUE=DATE:20221223
DTSTAMP:20260422T235648
CREATED:20220909T090635Z
LAST-MODIFIED:20220909T090635Z
UID:4047-1671667200-1671753599@www.elmsleighinfantschool.co.uk
SUMMARY:Inset Day
DESCRIPTION:
URL:https://www.elmsleighinfantschool.co.uk/diary/inset-day-7/
END:VEVENT
BEGIN:VEVENT
DTSTART;VALUE=DATE:20221221
DTEND;VALUE=DATE:20221222
DTSTAMP:20260422T235648
CREATED:20220909T090553Z
LAST-MODIFIED:20220909T090553Z
UID:4043-1671580800-1671667199@www.elmsleighinfantschool.co.uk
SUMMARY:Christmas Party Day
DESCRIPTION:
URL:https://www.elmsleighinfantschool.co.uk/diary/christmas-party-day-2/
END:VEVENT
BEGIN:VEVENT
DTSTART;VALUE=DATE:20221212
DTEND;VALUE=DATE:20221213
DTSTAMP:20260422T235648
CREATED:20220909T090411Z
LAST-MODIFIED:20220909T090411Z
UID:4037-1670803200-1670889599@www.elmsleighinfantschool.co.uk
SUMMARY:Advent 3 Assembly
DESCRIPTION:
URL:https://www.elmsleighinfantschool.co.uk/diary/advent-3-assembly-2/
END:VEVENT
BEGIN:VEVENT
DTSTART;TZID=Europe/London:20221209T143000
DTEND;TZID=Europe/London:20221209T170000
DTSTAMP:20260422T235648
CREATED:20220909T090314Z
LAST-MODIFIED:20220909T090314Z
UID:4033-1670596200-1670605200@www.elmsleighinfantschool.co.uk
SUMMARY:Book Buddy Across School
DESCRIPTION:
URL:https://www.elmsleighinfantschool.co.uk/diary/book-buddy-across-school-2/
END:VEVENT
END:VCALENDAR