BEGIN:VCALENDAR
VERSION:2.0
PRODID:-//Elmsleigh Infant &amp; Nursery - ECPv6.15.17//NONSGML v1.0//EN
CALSCALE:GREGORIAN
METHOD:PUBLISH
X-WR-CALNAME:Elmsleigh Infant &amp; Nursery
X-ORIGINAL-URL:https://www.elmsleighinfantschool.co.uk
X-WR-CALDESC:Events for Elmsleigh Infant &amp; Nursery
REFRESH-INTERVAL;VALUE=DURATION:PT1H
X-Robots-Tag:noindex
X-PUBLISHED-TTL:PT1H
BEGIN:VTIMEZONE
TZID:Europe/London
BEGIN:DAYLIGHT
TZOFFSETFROM:+0000
TZOFFSETTO:+0100
TZNAME:BST
DTSTART:20200329T010000
END:DAYLIGHT
BEGIN:STANDARD
TZOFFSETFROM:+0100
TZOFFSETTO:+0000
TZNAME:GMT
DTSTART:20201025T010000
END:STANDARD
BEGIN:DAYLIGHT
TZOFFSETFROM:+0000
TZOFFSETTO:+0100
TZNAME:BST
DTSTART:20210328T010000
END:DAYLIGHT
BEGIN:STANDARD
TZOFFSETFROM:+0100
TZOFFSETTO:+0000
TZNAME:GMT
DTSTART:20211031T010000
END:STANDARD
BEGIN:DAYLIGHT
TZOFFSETFROM:+0000
TZOFFSETTO:+0100
TZNAME:BST
DTSTART:20220327T010000
END:DAYLIGHT
BEGIN:STANDARD
TZOFFSETFROM:+0100
TZOFFSETTO:+0000
TZNAME:GMT
DTSTART:20221030T010000
END:STANDARD
BEGIN:DAYLIGHT
TZOFFSETFROM:+0000
TZOFFSETTO:+0100
TZNAME:BST
DTSTART:20230326T010000
END:DAYLIGHT
BEGIN:STANDARD
TZOFFSETFROM:+0100
TZOFFSETTO:+0000
TZNAME:GMT
DTSTART:20231029T010000
END:STANDARD
END:VTIMEZONE
BEGIN:VEVENT
DTSTART;TZID=Europe/London:20220204T140000
DTEND;TZID=Europe/London:20220204T151500
DTSTAMP:20260423T173722
CREATED:20220720T103811Z
LAST-MODIFIED:20220720T103811Z
UID:3609-1643983200-1643987700@www.elmsleighinfantschool.co.uk
SUMMARY:Party Afternoon
DESCRIPTION:
URL:https://www.elmsleighinfantschool.co.uk/diary/party-afternoon/
END:VEVENT
BEGIN:VEVENT
DTSTART;TZID=Europe/London:20220120T080000
DTEND;TZID=Europe/London:20220120T170000
DTSTAMP:20260423T173722
CREATED:20210930T130009Z
LAST-MODIFIED:20210930T130009Z
UID:3319-1642665600-1642698000@www.elmsleighinfantschool.co.uk
SUMMARY:Pupil Progress Meeting
DESCRIPTION:
URL:https://www.elmsleighinfantschool.co.uk/diary/pupil-progress-meeting/
END:VEVENT
BEGIN:VEVENT
DTSTART;TZID=Europe/London:20220113T143000
DTEND;TZID=Europe/London:20220113T170000
DTSTAMP:20260423T173722
CREATED:20210930T125710Z
LAST-MODIFIED:20210930T125710Z
UID:3315-1642084200-1642093200@www.elmsleighinfantschool.co.uk
SUMMARY:PANTs Workshop for Parents
DESCRIPTION:
URL:https://www.elmsleighinfantschool.co.uk/diary/pants-workshop-for-parents/
END:VEVENT
BEGIN:VEVENT
DTSTART;TZID=Europe/London:20220110T103000
DTEND;TZID=Europe/London:20220110T110000
DTSTAMP:20260423T173722
CREATED:20210930T125621Z
LAST-MODIFIED:20210930T125621Z
UID:3313-1641810600-1641812400@www.elmsleighinfantschool.co.uk
SUMMARY:Welcome Assembly 2022
DESCRIPTION:
URL:https://www.elmsleighinfantschool.co.uk/diary/welcome-assembly-2022/
END:VEVENT
BEGIN:VEVENT
DTSTART;TZID=Europe/London:20211224T080000
DTEND;TZID=Europe/London:20220109T170000
DTSTAMP:20260423T173722
CREATED:20210930T125532Z
LAST-MODIFIED:20210930T125532Z
UID:3311-1640332800-1641747600@www.elmsleighinfantschool.co.uk
SUMMARY:Half Term
DESCRIPTION:
URL:https://www.elmsleighinfantschool.co.uk/diary/half-term-11/
END:VEVENT
BEGIN:VEVENT
DTSTART;VALUE=DATE:20211223
DTEND;VALUE=DATE:20211224
DTSTAMP:20260423T173722
CREATED:20210930T125447Z
LAST-MODIFIED:20210930T125447Z
UID:3309-1640217600-1640303999@www.elmsleighinfantschool.co.uk
SUMMARY:Inset day
DESCRIPTION:
URL:https://www.elmsleighinfantschool.co.uk/diary/inset-day-4/
END:VEVENT
BEGIN:VEVENT
DTSTART;VALUE=DATE:20211222
DTEND;VALUE=DATE:20211223
DTSTAMP:20260423T173722
CREATED:20210930T125417Z
LAST-MODIFIED:20210930T125417Z
UID:3307-1640131200-1640217599@www.elmsleighinfantschool.co.uk
SUMMARY:Inset Day
DESCRIPTION:
URL:https://www.elmsleighinfantschool.co.uk/diary/inset-day-3/
END:VEVENT
BEGIN:VEVENT
DTSTART;TZID=Europe/London:20211221T080000
DTEND;TZID=Europe/London:20211221T170000
DTSTAMP:20260423T173722
CREATED:20210930T121818Z
LAST-MODIFIED:20210930T121818Z
UID:3302-1640073600-1640106000@www.elmsleighinfantschool.co.uk
SUMMARY:Advent 4 / Christingle Assembly
DESCRIPTION:
URL:https://www.elmsleighinfantschool.co.uk/diary/advent-4-assembly/
END:VEVENT
BEGIN:VEVENT
DTSTART;TZID=Europe/London:20211220T080000
DTEND;TZID=Europe/London:20211220T170000
DTSTAMP:20260423T173722
CREATED:20210930T121558Z
LAST-MODIFIED:20210930T121558Z
UID:3298-1639987200-1640019600@www.elmsleighinfantschool.co.uk
SUMMARY:Christmas Party Day
DESCRIPTION:
URL:https://www.elmsleighinfantschool.co.uk/diary/christmas-party-day/
END:VEVENT
BEGIN:VEVENT
DTSTART;TZID=Europe/London:20211217T080000
DTEND;TZID=Europe/London:20211217T170000
DTSTAMP:20260423T173722
CREATED:20210930T125843Z
LAST-MODIFIED:20210930T125843Z
UID:3317-1639728000-1639760400@www.elmsleighinfantschool.co.uk
SUMMARY:Curriculum Newsletter
DESCRIPTION:Will be sent out to all Parents.
URL:https://www.elmsleighinfantschool.co.uk/diary/curriculum-newsletter-2/
END:VEVENT
BEGIN:VEVENT
DTSTART;TZID=Europe/London:20211217T080000
DTEND;TZID=Europe/London:20211217T170000
DTSTAMP:20260423T173722
CREATED:20210930T121438Z
LAST-MODIFIED:20210930T121438Z
UID:3296-1639728000-1639760400@www.elmsleighinfantschool.co.uk
SUMMARY:Year 2 Christmas Production
DESCRIPTION:
URL:https://www.elmsleighinfantschool.co.uk/diary/year-2-christmas-production-2/
END:VEVENT
BEGIN:VEVENT
DTSTART;TZID=Europe/London:20211217T080000
DTEND;TZID=Europe/London:20211217T170000
DTSTAMP:20260423T173722
CREATED:20210930T121415Z
LAST-MODIFIED:20210930T121415Z
UID:3294-1639728000-1639760400@www.elmsleighinfantschool.co.uk
SUMMARY:Reception Christmas Production
DESCRIPTION:
URL:https://www.elmsleighinfantschool.co.uk/diary/reception-christmas-production-2/
END:VEVENT
BEGIN:VEVENT
DTSTART;TZID=Europe/London:20211216T080000
DTEND;TZID=Europe/London:20211216T170000
DTSTAMP:20260423T173722
CREATED:20210930T121735Z
LAST-MODIFIED:20210930T121735Z
UID:3300-1639641600-1639674000@www.elmsleighinfantschool.co.uk
SUMMARY:Year 2 Christmas Production
DESCRIPTION:
URL:https://www.elmsleighinfantschool.co.uk/diary/year-2-christmas-production-3/
END:VEVENT
BEGIN:VEVENT
DTSTART;TZID=Europe/London:20211216T080000
DTEND;TZID=Europe/London:20211216T170000
DTSTAMP:20260423T173722
CREATED:20210930T121238Z
LAST-MODIFIED:20210930T121238Z
UID:3290-1639641600-1639674000@www.elmsleighinfantschool.co.uk
SUMMARY:Year 1 Christmas Production
DESCRIPTION:
URL:https://www.elmsleighinfantschool.co.uk/diary/year-1-christmas-production-2/
END:VEVENT
BEGIN:VEVENT
DTSTART;TZID=Europe/London:20211215T080000
DTEND;TZID=Europe/London:20211215T170000
DTSTAMP:20260423T173722
CREATED:20210930T121204Z
LAST-MODIFIED:20210930T121204Z
UID:3288-1639555200-1639587600@www.elmsleighinfantschool.co.uk
SUMMARY:Year 1 Christmas Production
DESCRIPTION:
URL:https://www.elmsleighinfantschool.co.uk/diary/year-1-christmas-production/
END:VEVENT
BEGIN:VEVENT
DTSTART;TZID=Europe/London:20211215T080000
DTEND;TZID=Europe/London:20211215T170000
DTSTAMP:20260423T173722
CREATED:20210930T121136Z
LAST-MODIFIED:20210930T121136Z
UID:3286-1639555200-1639587600@www.elmsleighinfantschool.co.uk
SUMMARY:Reception Christmas Production
DESCRIPTION:
URL:https://www.elmsleighinfantschool.co.uk/diary/reception-christmas-production/
END:VEVENT
BEGIN:VEVENT
DTSTART;TZID=Europe/London:20211214T080000
DTEND;TZID=Europe/London:20211214T170000
DTSTAMP:20260423T173722
CREATED:20210930T121105Z
LAST-MODIFIED:20210930T121105Z
UID:3284-1639468800-1639501200@www.elmsleighinfantschool.co.uk
SUMMARY:Nursery PM Christmas Production
DESCRIPTION:Times TBC
URL:https://www.elmsleighinfantschool.co.uk/diary/nursery-pm-christmas-production/
END:VEVENT
BEGIN:VEVENT
DTSTART;TZID=Europe/London:20211214T080000
DTEND;TZID=Europe/London:20211214T170000
DTSTAMP:20260423T173722
CREATED:20210930T121012Z
LAST-MODIFIED:20210930T121012Z
UID:3282-1639468800-1639501200@www.elmsleighinfantschool.co.uk
SUMMARY:Nursery AM Christmas Production
DESCRIPTION:Times TBC
URL:https://www.elmsleighinfantschool.co.uk/diary/nursery-am-christmas-production/
END:VEVENT
BEGIN:VEVENT
DTSTART;TZID=Europe/London:20211214T080000
DTEND;TZID=Europe/London:20211214T170000
DTSTAMP:20260423T173722
CREATED:20210930T120850Z
LAST-MODIFIED:20210930T120850Z
UID:3280-1639468800-1639501200@www.elmsleighinfantschool.co.uk
SUMMARY:Rainbows Christmas Production
DESCRIPTION:Times TBC
URL:https://www.elmsleighinfantschool.co.uk/diary/rainbows-christmas-production/
END:VEVENT
BEGIN:VEVENT
DTSTART;TZID=Europe/London:20211213T080000
DTEND;TZID=Europe/London:20211213T170000
DTSTAMP:20260423T173722
CREATED:20210930T115740Z
LAST-MODIFIED:20210930T115740Z
UID:3275-1639382400-1639414800@www.elmsleighinfantschool.co.uk
SUMMARY:Advent 3 Assembly
DESCRIPTION:
URL:https://www.elmsleighinfantschool.co.uk/diary/advent-3-assembly/
END:VEVENT
BEGIN:VEVENT
DTSTART;TZID=Europe/London:20211208T114500
DTEND;TZID=Europe/London:20211208T130000
DTSTAMP:20260423T173722
CREATED:20210930T115443Z
LAST-MODIFIED:20210930T115443Z
UID:3271-1638963900-1638968400@www.elmsleighinfantschool.co.uk
SUMMARY:School Christmas Lunch
DESCRIPTION:
URL:https://www.elmsleighinfantschool.co.uk/diary/school-christmas-lunch/
END:VEVENT
BEGIN:VEVENT
DTSTART;TZID=Europe/London:20211206T080000
DTEND;TZID=Europe/London:20211206T170000
DTSTAMP:20260423T173722
CREATED:20210930T120707Z
LAST-MODIFIED:20210930T120707Z
UID:3278-1638777600-1638810000@www.elmsleighinfantschool.co.uk
SUMMARY:Advent 2 Assembly
DESCRIPTION:
URL:https://www.elmsleighinfantschool.co.uk/diary/advent-2-assembly/
END:VEVENT
BEGIN:VEVENT
DTSTART;TZID=Europe/London:20211129T080000
DTEND;TZID=Europe/London:20211129T170000
DTSTAMP:20260423T173722
CREATED:20210930T115334Z
LAST-MODIFIED:20210930T115334Z
UID:3269-1638172800-1638205200@www.elmsleighinfantschool.co.uk
SUMMARY:Advent 1 Assembly
DESCRIPTION:
URL:https://www.elmsleighinfantschool.co.uk/diary/advent-1-assembly/
END:VEVENT
BEGIN:VEVENT
DTSTART;VALUE=DATE:20211119
DTEND;VALUE=DATE:20211120
DTSTAMP:20260423T173722
CREATED:20210930T105724Z
LAST-MODIFIED:20210930T105724Z
UID:3259-1637280000-1637366399@www.elmsleighinfantschool.co.uk
SUMMARY:Children in Need
DESCRIPTION:
URL:https://www.elmsleighinfantschool.co.uk/diary/children-in-need/
END:VEVENT
BEGIN:VEVENT
DTSTART;TZID=Europe/London:20211118T140000
DTEND;TZID=Europe/London:20211118T170000
DTSTAMP:20260423T173722
CREATED:20210930T110707Z
LAST-MODIFIED:20210930T110707Z
UID:3267-1637244000-1637254800@www.elmsleighinfantschool.co.uk
SUMMARY:Whole School Maths Workshop
DESCRIPTION:For all Parents.
URL:https://www.elmsleighinfantschool.co.uk/diary/whole-school-maths-workshop/
END:VEVENT
BEGIN:VEVENT
DTSTART;TZID=Europe/London:20211117T153000
DTEND;TZID=Europe/London:20211117T170000
DTSTAMP:20260423T173722
CREATED:20210930T110005Z
LAST-MODIFIED:20210930T110005Z
UID:3265-1637163000-1637168400@www.elmsleighinfantschool.co.uk
SUMMARY:Parent Consultations
DESCRIPTION:Zoom meetings.
URL:https://www.elmsleighinfantschool.co.uk/diary/parent-consultations-4/
END:VEVENT
BEGIN:VEVENT
DTSTART;TZID=Europe/London:20211116T153000
DTEND;TZID=Europe/London:20211116T170000
DTSTAMP:20260423T173722
CREATED:20210930T105927Z
LAST-MODIFIED:20210930T105927Z
UID:3263-1637076600-1637082000@www.elmsleighinfantschool.co.uk
SUMMARY:Parent Consultations
DESCRIPTION:Zoom meetings.
URL:https://www.elmsleighinfantschool.co.uk/diary/parent-consultations-3/
END:VEVENT
BEGIN:VEVENT
DTSTART;TZID=Europe/London:20211116T080000
DTEND;TZID=Europe/London:20211116T170000
DTSTAMP:20260423T173722
CREATED:20210930T121259Z
LAST-MODIFIED:20210930T121259Z
UID:3292-1637049600-1637082000@www.elmsleighinfantschool.co.uk
SUMMARY:Year 2 Christmas Production
DESCRIPTION:
URL:https://www.elmsleighinfantschool.co.uk/diary/year-2-christmas-production/
END:VEVENT
BEGIN:VEVENT
DTSTART;VALUE=DATE:20211115
DTEND;VALUE=DATE:20211120
DTSTAMP:20260423T173722
CREATED:20210930T105427Z
LAST-MODIFIED:20210930T105427Z
UID:3253-1636934400-1637366399@www.elmsleighinfantschool.co.uk
SUMMARY:Anti-Bullying week
DESCRIPTION:
URL:https://www.elmsleighinfantschool.co.uk/diary/anti-bullying-week/
END:VEVENT
BEGIN:VEVENT
DTSTART;TZID=Europe/London:20211112T090000
DTEND;TZID=Europe/London:20211112T150000
DTSTAMP:20260423T173722
CREATED:20210930T105825Z
LAST-MODIFIED:20210930T105825Z
UID:3261-1636707600-1636729200@www.elmsleighinfantschool.co.uk
SUMMARY:Curriculum Newsletter
DESCRIPTION:A curriculum newsletter will be sent home to all parents.
URL:https://www.elmsleighinfantschool.co.uk/diary/curriculum-newsletter/
END:VEVENT
END:VCALENDAR