BEGIN:VCALENDAR
VERSION:2.0
PRODID:-//Elmsleigh Infant &amp; Nursery - ECPv6.15.17//NONSGML v1.0//EN
CALSCALE:GREGORIAN
METHOD:PUBLISH
X-WR-CALNAME:Elmsleigh Infant &amp; Nursery
X-ORIGINAL-URL:https://www.elmsleighinfantschool.co.uk
X-WR-CALDESC:Events for Elmsleigh Infant &amp; Nursery
REFRESH-INTERVAL;VALUE=DURATION:PT1H
X-Robots-Tag:noindex
X-PUBLISHED-TTL:PT1H
BEGIN:VTIMEZONE
TZID:Europe/London
BEGIN:DAYLIGHT
TZOFFSETFROM:+0000
TZOFFSETTO:+0100
TZNAME:BST
DTSTART:20250330T010000
END:DAYLIGHT
BEGIN:STANDARD
TZOFFSETFROM:+0100
TZOFFSETTO:+0000
TZNAME:GMT
DTSTART:20251026T010000
END:STANDARD
BEGIN:DAYLIGHT
TZOFFSETFROM:+0000
TZOFFSETTO:+0100
TZNAME:BST
DTSTART:20260329T010000
END:DAYLIGHT
BEGIN:STANDARD
TZOFFSETFROM:+0100
TZOFFSETTO:+0000
TZNAME:GMT
DTSTART:20261025T010000
END:STANDARD
BEGIN:DAYLIGHT
TZOFFSETFROM:+0000
TZOFFSETTO:+0100
TZNAME:BST
DTSTART:20270328T010000
END:DAYLIGHT
BEGIN:STANDARD
TZOFFSETFROM:+0100
TZOFFSETTO:+0000
TZNAME:GMT
DTSTART:20271031T010000
END:STANDARD
END:VTIMEZONE
BEGIN:VEVENT
DTSTART;VALUE=DATE:20260505
DTEND;VALUE=DATE:20260506
DTSTAMP:20260422T225513
CREATED:20250521T123119Z
LAST-MODIFIED:20250521T123119Z
UID:10641-1777939200-1778025599@www.elmsleighinfantschool.co.uk
SUMMARY:Inset Day
DESCRIPTION:
URL:https://www.elmsleighinfantschool.co.uk/diary/inset-day-17/
END:VEVENT
BEGIN:VEVENT
DTSTART;VALUE=DATE:20260525
DTEND;VALUE=DATE:20260530
DTSTAMP:20260422T225513
CREATED:20250521T123210Z
LAST-MODIFIED:20250521T123210Z
UID:10643-1779667200-1780099199@www.elmsleighinfantschool.co.uk
SUMMARY:Half Term
DESCRIPTION:
URL:https://www.elmsleighinfantschool.co.uk/diary/half-term-20/
END:VEVENT
BEGIN:VEVENT
DTSTART;VALUE=DATE:20260601
DTEND;VALUE=DATE:20260602
DTSTAMP:20260422T225513
CREATED:20250521T123247Z
LAST-MODIFIED:20250521T123247Z
UID:10646-1780272000-1780358399@www.elmsleighinfantschool.co.uk
SUMMARY:Inset Day
DESCRIPTION:
URL:https://www.elmsleighinfantschool.co.uk/diary/inset-day-18/
END:VEVENT
BEGIN:VEVENT
DTSTART;TZID=Europe/London:20260724T080000
DTEND;TZID=Europe/London:20260903T170000
DTSTAMP:20260422T225513
CREATED:20250521T123620Z
LAST-MODIFIED:20250521T123620Z
UID:10649-1784880000-1788454800@www.elmsleighinfantschool.co.uk
SUMMARY:Summer Holidays
DESCRIPTION:
URL:https://www.elmsleighinfantschool.co.uk/diary/summer-holidays-4/
END:VEVENT
END:VCALENDAR